BEGIN:VCALENDAR
PRODID:-//Microsoft Corporation//Outlook 12.0 MIMEDIR//EN
VERSION:2.0
CALSCALE:GREGORIAN
BEGIN:VEVENT
UID: 8715b346-308f-4f9d-a73e-8acd406069ad
SUMMARY:KEVADLAAT
DTSTAMP:20260507T170000
DTSTART:20260507T170000
DTEND:20260507T190000
LOCATION:
DESCRIPTION: <div style="-webkit-text-stroke-width:0px;background-color:rgb(255, 255, 255);color:rgb(8, 8, 9);font-family:&quot;Segoe UI Historic&quot;, &quot;Segoe UI&quot;, Helvetica, Arial, sans-serif;font-size:15px;font-style:normal;font-variant-caps:normal;font-variant-ligatures:normal;font-weight:400;letter-spacing:normal;orphans:2;text-align:start;text-decoration-color:initial;text-decoration-style:initial;text-decoration-thickness:initial;text-indent:0px;text-transform:none;white-space:pre-wrap;widows:2;word-spacing:0px;" dir="auto">Kutsume teid registreerima müüjaks ja tulema kauplema. Oodatud on kõik – nii suured kui väikesed müüjad – ning müüa võib kõike põnevat ja kevadist, näiteks:</div><div style="-webkit-text-stroke-width:0px;background-color:rgb(255, 255, 255);color:rgb(8, 8, 9);font-family:&quot;Segoe UI Historic&quot;, &quot;Segoe UI&quot;, Helvetica, Arial, sans-serif;font-size:15px;font-style:normal;font-variant-caps:normal;font-variant-ligatures:normal;font-weight:400;letter-spacing:normal;orphans:2;text-align:start;text-decoration-color:initial;text-decoration-style:initial;text-decoration-thickness:initial;text-indent:0px;text-transform:none;white-space:pre-wrap;widows:2;word-spacing:0px;" dir="auto">*maitsvat toitu</div><div style="-webkit-text-stroke-width:0px;background-color:rgb(255, 255, 255);color:rgb(8, 8, 9);font-family:&quot;Segoe UI Historic&quot;, &quot;Segoe UI&quot;, Helvetica, Arial, sans-serif;font-size:15px;font-style:normal;font-variant-caps:normal;font-variant-ligatures:normal;font-weight:400;letter-spacing:normal;orphans:2;text-align:start;text-decoration-color:initial;text-decoration-style:initial;text-decoration-thickness:initial;text-indent:0px;text-transform:none;white-space:pre-wrap;widows:2;word-spacing:0px;" dir="auto">*kaunist käsitööd</div><div style="-webkit-text-stroke-width:0px;background-color:rgb(255, 255, 255);color:rgb(8, 8, 9);font-family:&quot;Segoe UI Historic&quot;, &quot;Segoe UI&quot;, Helvetica, Arial, sans-serif;font-size:15px;font-style:normal;font-variant-caps:normal;font-variant-ligatures:normal;font-weight:400;letter-spacing:normal;orphans:2;text-align:start;text-decoration-color:initial;text-decoration-style:initial;text-decoration-thickness:initial;text-indent:0px;text-transform:none;white-space:pre-wrap;widows:2;word-spacing:0px;" dir="auto">*taimi ja istikuid</div><div style="-webkit-text-stroke-width:0px;background-color:rgb(255, 255, 255);color:rgb(8, 8, 9);font-family:&quot;Segoe UI Historic&quot;, &quot;Segoe UI&quot;, Helvetica, Arial, sans-serif;font-size:15px;font-style:normal;font-variant-caps:normal;font-variant-ligatures:normal;font-weight:400;letter-spacing:normal;orphans:2;text-align:start;text-decoration-color:initial;text-decoration-style:initial;text-decoration-thickness:initial;text-indent:0px;text-transform:none;white-space:pre-wrap;widows:2;word-spacing:0px;" dir="auto">*ning muud huvitavat</div><div style="-webkit-text-stroke-width:0px;background-color:rgb(255, 255, 255);color:rgb(8, 8, 9);font-family:&quot;Segoe UI Historic&quot;, &quot;Segoe UI&quot;, Helvetica, Arial, sans-serif;font-size:15px;font-style:normal;font-variant-caps:normal;font-variant-ligatures:normal;font-weight:400;letter-spacing:normal;orphans:2;text-align:start;text-decoration-color:initial;text-decoration-style:initial;text-decoration-thickness:initial;text-indent:0px;text-transform:none;white-space:pre-wrap;widows:2;word-spacing:0px;" dir="auto">Registreeru juba täna!</div><p><strong>Link: </strong>https://arukyla.edu.ee/et/sundmuste-kalender/kevadlaat</p><p><strong>Hind: </strong></p>
STATUS:CONFIRMED
SEQUENCE:3
X-ALT-DESC;FMTTYPE=text/html:<div style="-webkit-text-stroke-width:0px;background-color:rgb(255, 255, 255);color:rgb(8, 8, 9);font-family:&quot;Segoe UI Historic&quot;, &quot;Segoe UI&quot;, Helvetica, Arial, sans-serif;font-size:15px;font-style:normal;font-variant-caps:normal;font-variant-ligatures:normal;font-weight:400;letter-spacing:normal;orphans:2;text-align:start;text-decoration-color:initial;text-decoration-style:initial;text-decoration-thickness:initial;text-indent:0px;text-transform:none;white-space:pre-wrap;widows:2;word-spacing:0px;" dir="auto">Kutsume teid registreerima müüjaks ja tulema kauplema. Oodatud on kõik – nii suured kui väikesed müüjad – ning müüa võib kõike põnevat ja kevadist, näiteks:</div><div style="-webkit-text-stroke-width:0px;background-color:rgb(255, 255, 255);color:rgb(8, 8, 9);font-family:&quot;Segoe UI Historic&quot;, &quot;Segoe UI&quot;, Helvetica, Arial, sans-serif;font-size:15px;font-style:normal;font-variant-caps:normal;font-variant-ligatures:normal;font-weight:400;letter-spacing:normal;orphans:2;text-align:start;text-decoration-color:initial;text-decoration-style:initial;text-decoration-thickness:initial;text-indent:0px;text-transform:none;white-space:pre-wrap;widows:2;word-spacing:0px;" dir="auto">*maitsvat toitu</div><div style="-webkit-text-stroke-width:0px;background-color:rgb(255, 255, 255);color:rgb(8, 8, 9);font-family:&quot;Segoe UI Historic&quot;, &quot;Segoe UI&quot;, Helvetica, Arial, sans-serif;font-size:15px;font-style:normal;font-variant-caps:normal;font-variant-ligatures:normal;font-weight:400;letter-spacing:normal;orphans:2;text-align:start;text-decoration-color:initial;text-decoration-style:initial;text-decoration-thickness:initial;text-indent:0px;text-transform:none;white-space:pre-wrap;widows:2;word-spacing:0px;" dir="auto">*kaunist käsitööd</div><div style="-webkit-text-stroke-width:0px;background-color:rgb(255, 255, 255);color:rgb(8, 8, 9);font-family:&quot;Segoe UI Historic&quot;, &quot;Segoe UI&quot;, Helvetica, Arial, sans-serif;font-size:15px;font-style:normal;font-variant-caps:normal;font-variant-ligatures:normal;font-weight:400;letter-spacing:normal;orphans:2;text-align:start;text-decoration-color:initial;text-decoration-style:initial;text-decoration-thickness:initial;text-indent:0px;text-transform:none;white-space:pre-wrap;widows:2;word-spacing:0px;" dir="auto">*taimi ja istikuid</div><div style="-webkit-text-stroke-width:0px;background-color:rgb(255, 255, 255);color:rgb(8, 8, 9);font-family:&quot;Segoe UI Historic&quot;, &quot;Segoe UI&quot;, Helvetica, Arial, sans-serif;font-size:15px;font-style:normal;font-variant-caps:normal;font-variant-ligatures:normal;font-weight:400;letter-spacing:normal;orphans:2;text-align:start;text-decoration-color:initial;text-decoration-style:initial;text-decoration-thickness:initial;text-indent:0px;text-transform:none;white-space:pre-wrap;widows:2;word-spacing:0px;" dir="auto">*ning muud huvitavat</div><div style="-webkit-text-stroke-width:0px;background-color:rgb(255, 255, 255);color:rgb(8, 8, 9);font-family:&quot;Segoe UI Historic&quot;, &quot;Segoe UI&quot;, Helvetica, Arial, sans-serif;font-size:15px;font-style:normal;font-variant-caps:normal;font-variant-ligatures:normal;font-weight:400;letter-spacing:normal;orphans:2;text-align:start;text-decoration-color:initial;text-decoration-style:initial;text-decoration-thickness:initial;text-indent:0px;text-transform:none;white-space:pre-wrap;widows:2;word-spacing:0px;" dir="auto">Registreeru juba täna!</div><p><strong>Link: </strong>https://arukyla.edu.ee/et/sundmuste-kalender/kevadlaat</p><p><strong>Hind: </strong></p>
X-MICROSOFT-CDO-BUSYSTATUS:OOF
X-MICROSOFT-CDO-IMPORTANCE:1
X-MICROSOFT-DISALLOW-COUNTER:FALSE
X-MS-OLK-ALLOWEXTERNCHECK:TRUE
X-MS-OLK-CONFTYPE:0
X-MICROSOFT-CDO-ALLDAYEVENT:
X-MICROSOFT-MSNCALENDAR-ALLDAYEVENT:
END:VEVENT
END:VCALENDAR