BEGIN:VCALENDAR
PRODID:-//Microsoft Corporation//Outlook 12.0 MIMEDIR//EN
VERSION:2.0
CALSCALE:GREGORIAN
BEGIN:VEVENT
UID: cc1ab8b6-3f26-4c70-866b-7e9db1ff8d69
SUMMARY:Loovtööde kaitsmine I
DTSTAMP:20240520T140000
DTSTART:20240520T140000
DTEND:20240520T170000
LOCATION:Aula
DESCRIPTION: <table class="Table">	<tbody>		<tr>			<td>			<p><strong>KAITSMISELE TULEVAD TÖÖ:</strong></p>			<p>&nbsp;</p>			<ul>				<li><span><span><span><span><span><span><span>JUDOT TUTVUSTAVAD TUNNID</span></span></span></span></span></span></span></li>			</ul>			</td>		</tr>		<tr>			<td>			<ul>				<li><span><span><span><span><span><span><span>JOONISED JA ILLUSTRATSIOONID</span></span></span></span></span></span></span></li>			</ul>			</td>		</tr>		<tr>			<td>			<ul>				<li><span><span><span><span><span><span><span>ARUKÜLA PÕHIKOOLI 62. LENNU LÕPURAAMAT</span></span></span></span></span></span></span></li>			</ul>			</td>		</tr>		<tr>			<td>			<ul>				<li><span><span><span><span><span><span><span>KUNSTIPÄEVAD ARUKÜLA PÕHIKOOLIS</span></span></span></span></span></span></span></li>			</ul>			</td>		</tr>		<tr>			<td>			<ul>				<li><span><span><span><span><span><span><span>VAIMSE TERVISE NÄDAL</span></span></span></span></span></span></span></li>			</ul>			</td>		</tr>		<tr>			<td>			<ul>				<li><span><span><span><span><span><span><span>ARUKÜLA PÕHIKOOLI JÕULUBALL</span></span></span></span></span></span></span></li>			</ul>			</td>		</tr>		<tr>			<td>			<ul>				<li><span><span><span><span><span><span><span>NOORTEKONVERENTS</span></span></span></span></span></span></span></li>			</ul>			</td>		</tr>		<tr>			<td>			<ul>				<li><span><span><span><span><span><span><span>SOOLAKRISTALLIDE KASVATAMINE</span></span></span></span></span></span></span></li>			</ul>			</td>		</tr>		<tr>			<td>			<ul>				<li><span><span><span><span><span><span><span>ROHENURK ARUKÜLA PÕHIKOOLIS</span></span></span></span></span></span></span></li>			</ul>			</td>		</tr>		<tr>			<td>			<ul>				<li><span><span><span><span><span><span><span>PUTUKAHOTELLI TEGEMINE</span></span></span></span></span></span></span></li>			</ul>			</td>		</tr>		<tr>			<td>			<ul>				<li><span><span><span><span><span><span><span>PÄIKESEPANEELIDEGA TALVISTEL AEGADEL PÄIKESE MÕÕTMINE</span></span></span></span></span></span></span></li>			</ul>			</td>		</tr>	</tbody></table><p><strong>Link: </strong>https://arukyla.edu.ee/et/sundmuste-kalender/loovtoode-kaitsmine-i</p><p><strong>Hind: </strong></p>
STATUS:CONFIRMED
SEQUENCE:3
X-ALT-DESC;FMTTYPE=text/html:<table class="Table">	<tbody>		<tr>			<td>			<p><strong>KAITSMISELE TULEVAD TÖÖ:</strong></p>			<p>&nbsp;</p>			<ul>				<li><span><span><span><span><span><span><span>JUDOT TUTVUSTAVAD TUNNID</span></span></span></span></span></span></span></li>			</ul>			</td>		</tr>		<tr>			<td>			<ul>				<li><span><span><span><span><span><span><span>JOONISED JA ILLUSTRATSIOONID</span></span></span></span></span></span></span></li>			</ul>			</td>		</tr>		<tr>			<td>			<ul>				<li><span><span><span><span><span><span><span>ARUKÜLA PÕHIKOOLI 62. LENNU LÕPURAAMAT</span></span></span></span></span></span></span></li>			</ul>			</td>		</tr>		<tr>			<td>			<ul>				<li><span><span><span><span><span><span><span>KUNSTIPÄEVAD ARUKÜLA PÕHIKOOLIS</span></span></span></span></span></span></span></li>			</ul>			</td>		</tr>		<tr>			<td>			<ul>				<li><span><span><span><span><span><span><span>VAIMSE TERVISE NÄDAL</span></span></span></span></span></span></span></li>			</ul>			</td>		</tr>		<tr>			<td>			<ul>				<li><span><span><span><span><span><span><span>ARUKÜLA PÕHIKOOLI JÕULUBALL</span></span></span></span></span></span></span></li>			</ul>			</td>		</tr>		<tr>			<td>			<ul>				<li><span><span><span><span><span><span><span>NOORTEKONVERENTS</span></span></span></span></span></span></span></li>			</ul>			</td>		</tr>		<tr>			<td>			<ul>				<li><span><span><span><span><span><span><span>SOOLAKRISTALLIDE KASVATAMINE</span></span></span></span></span></span></span></li>			</ul>			</td>		</tr>		<tr>			<td>			<ul>				<li><span><span><span><span><span><span><span>ROHENURK ARUKÜLA PÕHIKOOLIS</span></span></span></span></span></span></span></li>			</ul>			</td>		</tr>		<tr>			<td>			<ul>				<li><span><span><span><span><span><span><span>PUTUKAHOTELLI TEGEMINE</span></span></span></span></span></span></span></li>			</ul>			</td>		</tr>		<tr>			<td>			<ul>				<li><span><span><span><span><span><span><span>PÄIKESEPANEELIDEGA TALVISTEL AEGADEL PÄIKESE MÕÕTMINE</span></span></span></span></span></span></span></li>			</ul>			</td>		</tr>	</tbody></table><p><strong>Link: </strong>https://arukyla.edu.ee/et/sundmuste-kalender/loovtoode-kaitsmine-i</p><p><strong>Hind: </strong></p>
X-MICROSOFT-CDO-BUSYSTATUS:OOF
X-MICROSOFT-CDO-IMPORTANCE:1
X-MICROSOFT-DISALLOW-COUNTER:FALSE
X-MS-OLK-ALLOWEXTERNCHECK:TRUE
X-MS-OLK-CONFTYPE:0
X-MICROSOFT-CDO-ALLDAYEVENT:
X-MICROSOFT-MSNCALENDAR-ALLDAYEVENT:
END:VEVENT
END:VCALENDAR