BEGIN:VCALENDAR
PRODID:-//Microsoft Corporation//Outlook 12.0 MIMEDIR//EN
VERSION:2.0
CALSCALE:GREGORIAN
BEGIN:VEVENT
UID: 44be8aa5-8132-4652-85fb-ae55a8694583
SUMMARY:Lastevanemate üldkoosolek
DTSTAMP:20241106T180000
DTSTART:20241106T180000
DTEND:20241106T200000
LOCATION:Aula
DESCRIPTION: <p><strong>Link: </strong>https://arukyla.edu.ee/et/sundmuste-kalender/lastevanemate-uldkoosolek-1</p><p><strong>Hind: </strong></p>
STATUS:CONFIRMED
SEQUENCE:3
X-ALT-DESC;FMTTYPE=text/html:<p><strong>Link: </strong>https://arukyla.edu.ee/et/sundmuste-kalender/lastevanemate-uldkoosolek-1</p><p><strong>Hind: </strong></p>
X-MICROSOFT-CDO-BUSYSTATUS:OOF
X-MICROSOFT-CDO-IMPORTANCE:1
X-MICROSOFT-DISALLOW-COUNTER:FALSE
X-MS-OLK-ALLOWEXTERNCHECK:TRUE
X-MS-OLK-CONFTYPE:0
X-MICROSOFT-CDO-ALLDAYEVENT:
X-MICROSOFT-MSNCALENDAR-ALLDAYEVENT:
END:VEVENT
END:VCALENDAR